BEGIN:VCALENDAR
VERSION:2.0
PRODID:-//Tukios.com/
BEGIN:VEVENT
UID:b9c08c2c-3d05-4681-8182-2233dd509814@www.rosefh.com
DTSTAMP:20260424T193500Z
DTSTART:20260607T190000Z
DTEND:20260607T220000Z
SUMMARY:Celebration of Life
DESCRIPTION:
URL:https://www.rosefh.com/obituaries/douglas-stanton
LOCATION:Iroquois Boating & Fishing Club 10733 Konneyaut Trail  Conneaut 
	Lake PA 16316
GEO:41.6119441;-80.2977186
END:VEVENT
END:VCALENDAR