BEGIN:VCALENDAR
VERSION:2.0
PRODID:-//Tukios.com/
BEGIN:VEVENT
UID:b498d302-6193-4073-a4c1-e0de20f14b0c@www.rosefh.com
DTSTAMP:20260420T015034Z
DTSTART:20260422T160000Z
DTEND:20260422T180000Z
SUMMARY:Visitation
DESCRIPTION:
URL:https://www.rosefh.com/obituaries/malinda-amelia-and-leroy-abrams
LOCATION:Rose and Black Funeral Home & Crematory 99 Franklin Street  
	Stoneboro PA 16153
GEO:41.3378341;-80.1053647
END:VEVENT
END:VCALENDAR