BEGIN:VCALENDAR
VERSION:2.0
PRODID:-//Tukios.com/
BEGIN:VEVENT
UID:aae32e05-74aa-4ffb-9fe2-0ba45a27f866@www.rosefh.com
DTSTAMP:20260420T015559Z
DTSTART:20260422T210000Z
DTEND:20260422T230000Z
SUMMARY:Visitation
DESCRIPTION:
URL:https://www.rosefh.com/obituaries/malinda-amelia-and-leroy-abrams
LOCATION:Rose and Black Funeral Home & Crematory 99 Franklin Street  
	Stoneboro PA 16153
GEO:41.3378341;-80.1053647
END:VEVENT
END:VCALENDAR