BEGIN:VCALENDAR
VERSION:2.0
PRODID:-//Tukios.com/
BEGIN:VEVENT
UID:084bf03b-4a03-4c84-9b72-56d9ec5b43c4@www.rosefh.com
DTSTAMP:20260422T050946Z
DTSTART:20260425T170000Z
DTEND:20260425T190000Z
SUMMARY:Visitation
DESCRIPTION:
URL:https://www.rosefh.com/obituaries/margaret-guthrie
LOCATION: 99 Franklin St  Stoneboro PA 16153
GEO:41.3378341;-80.1053647
END:VEVENT
END:VCALENDAR