BEGIN:VCALENDAR
VERSION:2.0
PRODID:-//Tukios.com/
BEGIN:VEVENT
UID:276fc831-d7e5-49c4-9fe3-1abef315a546@www.rosefh.com
DTSTAMP:20260420T064605Z
DTSTART:20260425T180000Z
DTEND:20260425T190000Z
SUMMARY:Visitation
DESCRIPTION:
URL:https://www.rosefh.com/obituaries/mary-wilson
LOCATION:Millbrook Presbyterian Church 1232 Millbrook Rd  Jackson Center 
	PA 16133
GEO:41.2491117;-80.0586171
END:VEVENT
END:VCALENDAR