BEGIN:VCALENDAR
VERSION:2.0
PRODID:-//Tukios.com/
BEGIN:VEVENT
UID:1acec1e6-02b1-414e-af28-3fdf7a639d0a@www.rosefh.com
DTSTAMP:20260420T064750Z
DTSTART:20260425T190000Z
DTEND:20260425T200000Z
SUMMARY:Memorial Service
DESCRIPTION:
URL:https://www.rosefh.com/obituaries/mary-wilson
LOCATION: 1232 Millbrook Rd  Jackson Center PA 16133
GEO:41.2491117;-80.0586171
END:VEVENT
END:VCALENDAR